BEGIN:VCALENDAR
VERSION:2.0
PRODID:-//hacksw/handcal//NONSGML v1.0//EN
CALSCALE:GREGORIAN
BEGIN:VEVENT
LOCATION:Evangelische Akademie Loccum\, Münchehäger Straße 6\, 31547 Rehburg-Loccum
DESCRIPTION:Wie bringen wir Menschen heute ins Singen? Wie lässt sich das gemeinsame Singen in verschiedenen Altersgruppen und Lebenswelten fördern? Was qualifiziert Singen als religiöse Praxis\, und welche Rolle spielen dabei alte und neue Lieder? Miteinander werden wir über die Potenziale des gemeinsamen Singens in der gesellschaftlichen Wirklichkeit diskutieren\, innovative Ansätze zur Singeförderung kennenlernen sowie Strategien für kirchliche und kulturelle Handlungsfelder entwickeln.
DTSTART:20260914T133000
DTEND:20260916T123000
SUMMARY:Tagung: Ins Singen bringen! Gemeinsames Singen initiieren\, fördern und begleiten\, In Kooperation mit VISION KIRCHENMUSIK\, 
URL;VALUE=URI:https://www.loccum.de/tagungen/2653/
DTSTAMP:20260422T085150
UID:69e88c26a416e
END:VEVENT
END:VCALENDAR